BEGIN:VCALENDAR
PRODID:-//kirchenweb.ch gmbh//veranstaltungsausgabe v2.0//DE
VERSION:2.0
METHOD:PUBLISH
BEGIN:VEVENT
DTSTART:20260626T173000Z
DTEND:20260626T181500Z
LOCATION:Zentrum Lee Riniken\, Leeweg 6\, 5223 Riniken
TRANSP:OPAQUE
SEQUENCE:0
UID:9941-veranstaltung@ref-umiken.ch
DTSTAMP:20260331T062004Z
DESCRIPTION:Kontakt: Pfr. Wolfgang von Ungern-Sternberg\, 056 441 16 39
 \nChristine Frei\, 056 460 00 53\n\nWeitere Infos:
  https://www.ref-umiken.ch/veranstaltung/9941
SUMMARY:Taizé Andacht
PRIORITY:5
X-MICROSOFT-CDO-IMPORTANCE:1
CLASS:PUBLIC
END:VEVENT
END:VCALENDAR
