BEGIN:VCALENDAR
PRODID:-//kirchenweb.ch gmbh//veranstaltungsausgabe v2.0//DE
VERSION:2.0
METHOD:PUBLISH
BEGIN:VEVENT
DTSTART:20260605T173000Z
DTEND:20260605T215000Z
LOCATION:Pavillon Riniken\, Leeweg 6\, 5223 Riniken
TRANSP:OPAQUE
SEQUENCE:0
UID:9930-veranstaltung@ref-umiken.ch
DTSTAMP:20260317T111902Z
DESCRIPTION:Summer Night\nEin Sommerabend mit Grillieren\, Cocktails und
  Partystimmung\nFür Jugendliche ab 12 Jahren\nOpen End\n\nKontakt: Edmond
  Egethoe\n079 408 36 86\n\nWeitere Infos:
  https://www.ref-umiken.ch/veranstaltung/9930
SUMMARY:Jugendtreff Riniken
PRIORITY:5
X-MICROSOFT-CDO-IMPORTANCE:1
CLASS:PUBLIC
END:VEVENT
END:VCALENDAR
