BEGIN:VCALENDAR
PRODID:-//kirchenweb.ch gmbh//veranstaltungsausgabe v2.0//DE
VERSION:2.0
METHOD:PUBLISH
BEGIN:VEVENT
DTSTART:20261127T190000Z
DTEND:20261127T210000Z
LOCATION:Kirchgemeindehaus Bözberg oder Zentrum Lee Riniken\, \,
TRANSP:OPAQUE
SEQUENCE:0
UID:9783-veranstaltung@ref-umiken.ch
DTSTAMP:20251205T101228Z
DESCRIPTION:Gesellige Abende für Männer\n\nKontakt: Pfr. Thorsten Bunz\n
 \nWeitere Infos: https://www.ref-umiken.ch/veranstaltung/9783
SUMMARY:Männertreff
PRIORITY:5
X-MICROSOFT-CDO-IMPORTANCE:1
CLASS:PUBLIC
END:VEVENT
END:VCALENDAR
