BEGIN:VCALENDAR
PRODID:-//kirchenweb.ch gmbh//veranstaltungsausgabe v2.0//DE
VERSION:2.0
METHOD:PUBLISH
BEGIN:VEVENT
DTSTART:20261108T160000Z
DTEND:20261108T170000Z
LOCATION:Zentrum Lee Riniken\, Leeweg 6\, 5223 Riniken
TRANSP:OPAQUE
SEQUENCE:0
UID:9777-veranstaltung@ref-umiken.ch
DTSTAMP:20251204T160702Z
DESCRIPTION:Kontakt: Richard Wullschleger Gemischter Chor Riniken\n
 \nWeitere Infos: https://www.ref-umiken.ch/veranstaltung/9777
SUMMARY:Chor Riniken Konzert
PRIORITY:5
X-MICROSOFT-CDO-IMPORTANCE:1
CLASS:PUBLIC
END:VEVENT
END:VCALENDAR
