BEGIN:VCALENDAR
PRODID:-//kirchenweb.ch gmbh//veranstaltungsausgabe v2.0//DE
VERSION:2.0
METHOD:PUBLISH
BEGIN:VEVENT
DTSTART:20261025T140000Z
DTEND:20261025T150000Z
LOCATION:Zentrum Lee Riniken\, Leeweg 6\, 5223 Riniken
TRANSP:OPAQUE
SEQUENCE:0
UID:9776-veranstaltung@ref-umiken.ch
DTSTAMP:20251204T160536Z
DESCRIPTION:Kontakt: Richard Wullschleger Gemischter Chor Riniken\n
 \nWeitere Infos: https://www.ref-umiken.ch/veranstaltung/9776
SUMMARY:Chor Riniken Ständli
PRIORITY:5
X-MICROSOFT-CDO-IMPORTANCE:1
CLASS:PUBLIC
END:VEVENT
END:VCALENDAR
