BEGIN:VCALENDAR
PRODID:-//kirchenweb.ch gmbh//veranstaltungsausgabe v2.0//DE
VERSION:2.0
METHOD:PUBLISH
BEGIN:VEVENT
DTSTART:20261213T160000Z
DTEND:20261213T170000Z
LOCATION:Zentrum Lee Riniken\, Leeweg 6\, 5223 Riniken
TRANSP:OPAQUE
SEQUENCE:0
UID:9763-veranstaltung@ref-umiken.ch
DTSTAMP:20251222T135601Z
DESCRIPTION:Kontakt: Rene Wirz\nT 079 283 60 40\n\nWeitere Infos:
  https://www.ref-umiken.ch/veranstaltung/9763
SUMMARY:Konzert Rene Wirz
PRIORITY:5
X-MICROSOFT-CDO-IMPORTANCE:1
CLASS:PUBLIC
END:VEVENT
END:VCALENDAR
