BEGIN:VCALENDAR
PRODID:-//kirchenweb.ch gmbh//veranstaltungsausgabe v2.0//DE
VERSION:2.0
METHOD:PUBLISH
BEGIN:VEVENT
DTSTART:20261109T180000Z
DTEND:20261109T193000Z
LOCATION:Mehrzweckgebäude Villnachern\, Dorfstrasse 5\, 5213 Villnachern
TRANSP:OPAQUE
SEQUENCE:0
UID:9739-veranstaltung@ref-umiken.ch
DTSTAMP:20251119T073757Z
DESCRIPTION:Kontakt: claudia.schaub@ref-umiken.ch\n\nWeitere Infos:
  https://www.ref-umiken.ch/veranstaltung/9739
SUMMARY:Kirchgemeindeversammlung
PRIORITY:5
X-MICROSOFT-CDO-IMPORTANCE:1
CLASS:PUBLIC
END:VEVENT
END:VCALENDAR
