BEGIN:VCALENDAR
PRODID:-//kirchenweb.ch gmbh//veranstaltungsausgabe v2.0//DE
VERSION:2.0
METHOD:PUBLISH
BEGIN:VEVENT
DTSTART:20260618T170000Z
DTEND:20260618T183000Z
LOCATION:Zentrum Lee Riniken\, Leeweg 6\, 5223 Riniken
TRANSP:OPAQUE
SEQUENCE:0
UID:9738-veranstaltung@ref-umiken.ch
DTSTAMP:20251119T073714Z
DESCRIPTION:Kontakt: claudia.schaub@ref-umiken.ch\n\nWeitere Infos:
  https://www.ref-umiken.ch/veranstaltung/9738
SUMMARY:Kirchgemeindeversammlung
PRIORITY:5
X-MICROSOFT-CDO-IMPORTANCE:1
CLASS:PUBLIC
END:VEVENT
END:VCALENDAR
