BEGIN:VCALENDAR
PRODID:-//kirchenweb.ch gmbh//veranstaltungsausgabe v2.0//DE
VERSION:2.0
METHOD:PUBLISH
BEGIN:VEVENT
DTSTART:20261108T150000Z
DTEND:20261108T163000Z
LOCATION:Reformierte Kirche Umiken\, Villnachernstrasse\, 5222 Umiken
TRANSP:OPAQUE
SEQUENCE:0
UID:9709-veranstaltung@ref-umiken.ch
DTSTAMP:20251208T114640Z
DESCRIPTION:Kontakt: Karin Kurz\, Sekretariat Heilsarmee\n\nWeitere Infos:
  https://www.ref-umiken.ch/veranstaltung/9709
SUMMARY:Heilsarmee Konzert
PRIORITY:5
X-MICROSOFT-CDO-IMPORTANCE:1
CLASS:PUBLIC
END:VEVENT
END:VCALENDAR
