BEGIN:VCALENDAR
PRODID:-//kirchenweb.ch gmbh//veranstaltungsausgabe v2.0//DE
VERSION:2.0
METHOD:PUBLISH
BEGIN:VEVENT
DTSTART:20261210T130000Z
DTEND:20261210T150000Z
LOCATION:Zentrum Lee Riniken\, Leeweg 6\, 5223 Riniken
TRANSP:OPAQUE
SEQUENCE:0
UID:9704-veranstaltung@ref-umiken.ch
DTSTAMP:20251114T072741Z
DESCRIPTION:Kontakt: Marianne Kern\n\nWeitere Infos:
  https://www.ref-umiken.ch/veranstaltung/9704
SUMMARY:Adventsfeier Ökumenischer Plausch und Träff
PRIORITY:5
X-MICROSOFT-CDO-IMPORTANCE:1
CLASS:PUBLIC
END:VEVENT
END:VCALENDAR
