BEGIN:VCALENDAR
PRODID:-//kirchenweb.ch gmbh//veranstaltungsausgabe v2.0//DE
VERSION:2.0
METHOD:PUBLISH
BEGIN:VEVENT
DTSTART;VALUE=DATE:20260531
DTEND;VALUE=DATE:20260601
LOCATION:ohne\, \,
TRANSP:OPAQUE
SEQUENCE:0
UID:9581-veranstaltung@ref-umiken.ch
DTSTAMP:20250904T083049Z
DESCRIPTION:Kontakt: claudia.schaub@ref-umiken.ch\n\nWeitere Infos:
  https://www.ref-umiken.ch/veranstaltung/9581
SUMMARY:KEIN Gottesdienst
PRIORITY:5
X-MICROSOFT-CDO-IMPORTANCE:1
CLASS:PUBLIC
END:VEVENT
END:VCALENDAR
