BEGIN:VCALENDAR
PRODID:-//kirchenweb.ch gmbh//veranstaltungsausgabe v2.0//DE
VERSION:2.0
METHOD:PUBLISH
BEGIN:VEVENT
DTSTART:20260514T080000Z
DTEND:20260514T090000Z
LOCATION:Badi Villnachern\, \, 5213 Villnachern
TRANSP:OPAQUE
SEQUENCE:0
UID:9498-veranstaltung@ref-umiken.ch
DTSTAMP:20260421T135304Z
DESCRIPTION:Der ökumenischen Auffahrtsgottesdienst in der Badi
  Villnachern wird von Carsten Mumbauer (kath.) und Wolfgang von
  Ungern-Sternberg gestaltet. Die Musikgesellschaft Villnachern wird den
  Anlass musikalisch umrahmen.\n\nIm Anschluss laden wir herzlich zum
  gemütlichen Beisammensein ein: Brötle und Picknick (bitte selbst
  mitbringen). Getränke können vor Ort bezogen werden. \n\nSollte das
  Wetter nicht mitspielen\, findet der Gottesdienst in der Turnhalle
  Villnachern mit anschliessendem Apéro\, ohne Picknick statt. Wo gefeiert
  wird\, erfahren Sie am Donnerstag ab 7.30\, T. 056 441 16 39.\n\nWir
  freuen uns auf einen festlichen Auffahrtsmorgen in guter Gemeinschaft.
  Alle sind herzlich eingeladen.\n\nKontakt: Pfr. Wolfgang von
  Ungern-Sternberg\n\nWeitere Infos:
  https://www.ref-umiken.ch/veranstaltung/9498
SUMMARY:Ökum. Auffahrt-Familien-Gottesdienst
PRIORITY:5
X-MICROSOFT-CDO-IMPORTANCE:1
CLASS:PUBLIC
END:VEVENT
END:VCALENDAR
