BEGIN:VCALENDAR
PRODID:-//kirchenweb.ch gmbh//veranstaltungsausgabe v2.0//DE
VERSION:2.0
METHOD:PUBLISH
BEGIN:VEVENT
DTSTART:20260920T073000Z
DTEND:20260920T083000Z
LOCATION:Reformierte Kirche Umiken\, Villnachernstrasse\, 5222 Umiken
TRANSP:OPAQUE
SEQUENCE:0
UID:9497-veranstaltung@ref-umiken.ch
DTSTAMP:20251118T161206Z
DESCRIPTION:Bettag\n\nKontakt: Pfr. Wolfgang von Ungern-Sternberg\n056 441
  16 39 \n\nWeitere Infos: https://www.ref-umiken.ch/veranstaltung/9497
SUMMARY:Bettag Gottesdienst
PRIORITY:5
X-MICROSOFT-CDO-IMPORTANCE:1
CLASS:PUBLIC
END:VEVENT
END:VCALENDAR
