BEGIN:VCALENDAR
PRODID:-//kirchenweb.ch gmbh//veranstaltungsausgabe v2.0//DE
VERSION:2.0
METHOD:PUBLISH
BEGIN:VEVENT
DTSTART:20261224T150000Z
DTEND:20261224T170000Z
LOCATION:Zentrum Lee Riniken\, Leeweg 6\, 5223 Riniken
TRANSP:OPAQUE
SEQUENCE:0
UID:9495-veranstaltung@ref-umiken.ch
DTSTAMP:20251118T160904Z
DESCRIPTION:Kontakt: Pfr. Wolfgang von Ungern-Sternberg\, 056 441 16 39\n
 \nWeitere Infos: https://www.ref-umiken.ch/veranstaltung/9495
SUMMARY:ökumenischer Familiengottesdienst Christnacht
PRIORITY:5
X-MICROSOFT-CDO-IMPORTANCE:1
CLASS:PUBLIC
END:VEVENT
END:VCALENDAR
