BEGIN:VCALENDAR
PRODID:-//kirchenweb.ch gmbh//veranstaltungsausgabe v2.0//DE
VERSION:2.0
METHOD:PUBLISH
BEGIN:VEVENT
DTSTART:20261101T083000Z
DTEND:20261101T093000Z
LOCATION:Reformierte Kirche Umiken\, Villnachernstrasse\, 5222 Umiken
TRANSP:OPAQUE
SEQUENCE:0
UID:9493-veranstaltung@ref-umiken.ch
DTSTAMP:20260415T070641Z
DESCRIPTION:Reformationssonntag\n\nKontakt: Pfr. Wolfgang von
  Ungern-Sternberg\n\nWeitere Infos:
  https://www.ref-umiken.ch/veranstaltung/9493
SUMMARY:Reformations-Gottesdienst mit Abendmahl
PRIORITY:5
X-MICROSOFT-CDO-IMPORTANCE:1
CLASS:PUBLIC
END:VEVENT
END:VCALENDAR
