BEGIN:VCALENDAR
PRODID:-//kirchenweb.ch gmbh//veranstaltungsausgabe v2.0//DE
VERSION:2.0
METHOD:PUBLISH
BEGIN:VEVENT
DTSTART:20261129T083000Z
DTEND:20261129T093000Z
LOCATION:Mehrzweckgebäude Villnachern\, Dorfstrasse 5\, 5213 Villnachern
TRANSP:OPAQUE
SEQUENCE:0
UID:9489-veranstaltung@ref-umiken.ch
DTSTAMP:20251118T160819Z
DESCRIPTION:1. Advent\n\nKontakt: Pfr. Wolfgang von Ungern-Sternberg\n
 \nWeitere Infos: https://www.ref-umiken.ch/veranstaltung/9489
SUMMARY:1. Advent Gottesdienst
PRIORITY:5
X-MICROSOFT-CDO-IMPORTANCE:1
CLASS:PUBLIC
END:VEVENT
END:VCALENDAR
