BEGIN:VCALENDAR
PRODID:-//kirchenweb.ch gmbh//veranstaltungsausgabe v2.0//DE
VERSION:2.0
METHOD:PUBLISH
BEGIN:VEVENT
DTSTART:20260726T073000Z
DTEND:20260726T083000Z
LOCATION:Mehrzweckgebäude Villnachern\, Dorfstrasse 5\, 5213 Villnachern
TRANSP:OPAQUE
SEQUENCE:0
UID:9485-veranstaltung@ref-umiken.ch
DTSTAMP:20260106T102349Z
DESCRIPTION:Kontakt: Pfr. Wolfgang von Ungern-Sternberg\n\nWeitere Infos:
  https://www.ref-umiken.ch/veranstaltung/9485
SUMMARY:Gottesdienst
PRIORITY:5
X-MICROSOFT-CDO-IMPORTANCE:1
CLASS:PUBLIC
END:VEVENT
END:VCALENDAR
