BEGIN:VCALENDAR
PRODID:-//kirchenweb.ch gmbh//veranstaltungsausgabe v2.0//DE
VERSION:2.0
METHOD:PUBLISH
BEGIN:VEVENT
DTSTART:20261220T083000Z
DTEND:20261220T093000Z
LOCATION:Zentrum Lee Riniken\, Leeweg 6\, 5223 Riniken
TRANSP:OPAQUE
SEQUENCE:0
UID:9478-veranstaltung@ref-umiken.ch
DTSTAMP:20251009T074441Z
DESCRIPTION:4. Advent\n\nKontakt: Pfr. Wolfgang von Ungern-Sternberg\n056
  441 16 39 \n\nWeitere Infos: https://www.ref-umiken.ch/veranstaltung/9478
SUMMARY:4. Advent Gottesdienst
PRIORITY:5
X-MICROSOFT-CDO-IMPORTANCE:1
CLASS:PUBLIC
END:VEVENT
END:VCALENDAR
