BEGIN:VCALENDAR
PRODID:-//kirchenweb.ch gmbh//veranstaltungsausgabe v2.0//DE
VERSION:2.0
METHOD:PUBLISH
BEGIN:VEVENT
DTSTART:20260719T073000Z
DTEND:20260719T083000Z
LOCATION:Zentrum Lee Riniken\, Leeweg 6\, 5223 Riniken
TRANSP:OPAQUE
SEQUENCE:0
UID:9474-veranstaltung@ref-umiken.ch
DTSTAMP:20251118T160247Z
DESCRIPTION:Kontakt: Pfr. Wolfgang von Ungern-Sternberg\n056 441 16 39 \n
 \nWeitere Infos: https://www.ref-umiken.ch/veranstaltung/9474
SUMMARY:Gottesdienst
PRIORITY:5
X-MICROSOFT-CDO-IMPORTANCE:1
CLASS:PUBLIC
END:VEVENT
END:VCALENDAR
