BEGIN:VCALENDAR
PRODID:-//kirchenweb.ch gmbh//veranstaltungsausgabe v2.0//DE
VERSION:2.0
METHOD:PUBLISH
BEGIN:VEVENT
DTSTART:20261108T083000Z
DTEND:20261108T093000Z
LOCATION:Reformierte Kirche Umiken\, Villnachernstrasse\, 5222 Umiken
TRANSP:OPAQUE
SEQUENCE:0
UID:9465-veranstaltung@ref-umiken.ch
DTSTAMP:20260324T081015Z
DESCRIPTION:Kontakt: Pfr. Wolfgang von Ungern-Sternberg\n056 441 16 39 \n
 \nWeitere Infos: https://www.ref-umiken.ch/veranstaltung/9465
SUMMARY:Gottesdienst
PRIORITY:5
X-MICROSOFT-CDO-IMPORTANCE:1
CLASS:PUBLIC
END:VEVENT
END:VCALENDAR
