BEGIN:VCALENDAR
PRODID:-//kirchenweb.ch gmbh//veranstaltungsausgabe v2.0//DE
VERSION:2.0
METHOD:PUBLISH
BEGIN:VEVENT
DTSTART:20260913T073000Z
DTEND:20260913T083000Z
LOCATION:Reformierte Kirche Umiken\, Villnachernstrasse\, 5222 Umiken
TRANSP:OPAQUE
SEQUENCE:0
UID:9461-veranstaltung@ref-umiken.ch
DTSTAMP:20251122T200947Z
DESCRIPTION:Kontakt: Pfr. Wolfgang von Ungern-Sternberg\n056 441 16 39 \n
 \nWeitere Infos: https://www.ref-umiken.ch/veranstaltung/9461
SUMMARY:Gottesdienst
PRIORITY:5
X-MICROSOFT-CDO-IMPORTANCE:1
CLASS:PUBLIC
END:VEVENT
END:VCALENDAR
