BEGIN:VCALENDAR
PRODID:-//kirchenweb.ch gmbh//veranstaltungsausgabe v2.0//DE
VERSION:2.0
METHOD:PUBLISH
BEGIN:VEVENT
DTSTART:20260524T073000Z
DTEND:20260524T083000Z
LOCATION:Reformierte Kirche Umiken\, Villnachernstrasse\, 5222 Umiken
TRANSP:OPAQUE
SEQUENCE:0
UID:9452-veranstaltung@ref-umiken.ch
DTSTAMP:20260331T063745Z
DESCRIPTION:Das grosse Geschenk\n\nDer Gottesdienst wird gestaltet von
  Susanne Frauchiger\, musikalisch bereichert von Nathalie Leuenberger an
  der Orgel und Ruth Bilkenroth mit Blockflöte und Gesang.\n\nBevor Jesus
  zurück zu seinem Vater in den Himmel kehrte\, versprach er seinen
  Nachfolgern ein wertvolles Geschenk. Dieses packen wir gemeinsam in
  diesem Pfingstgottesdienst aus. \nWir freuen uns auf die gemeinsame Feier
  des Abendmahls und auf die Begegnung miteinander.\n\n\nKontakt: Pfr.
  Wolfgang von Ungern-Sternberg\n056 441 16 39 \n\nWeitere Infos:
  https://www.ref-umiken.ch/veranstaltung/9452
SUMMARY:Pfingst Gottesdienst mit Abendmahl
PRIORITY:5
X-MICROSOFT-CDO-IMPORTANCE:1
CLASS:PUBLIC
END:VEVENT
END:VCALENDAR
