BEGIN:VCALENDAR
PRODID:-//kirchenweb.ch gmbh//veranstaltungsausgabe v2.0//DE
VERSION:2.0
METHOD:PUBLISH
BEGIN:VEVENT
DTSTART:20260510T073000Z
DTEND:20260510T083000Z
LOCATION:Reformierte Kirche Umiken\, Villnachernstrasse\, 5222 Umiken
TRANSP:OPAQUE
SEQUENCE:0
UID:9451-veranstaltung@ref-umiken.ch
DTSTAMP:20260408T093610Z
DESCRIPTION:Der Gottesdienst wird mitgestaltet von der Sonntagsschule. \n
 \nMit dem Thema «Liebe\, die trägt» gehen wir der Frage nach\, was es
  heisst\, im Leben\, im Glauben und in der Liebe gehalten zu sein. Wir
  entdecken Spuren dieser Liebe im Alltag\, in der Familie und auch in den
  biblischen Geschichten: wie Gott sein Volk begleitet\, führt und
  bewahrt. Eine Liebe\, die nicht nur schön ist\, sondern verlässlich\,
  stärkend und ein fester Anker für’s Leben.\n\nKontakt: Pfr. Wolfgang
  von Ungern-Sternberg\n056 441 16 39 \n\nWeitere Infos:
  https://www.ref-umiken.ch/veranstaltung/9451
SUMMARY:Gottesdienst zum Muttertag
PRIORITY:5
X-MICROSOFT-CDO-IMPORTANCE:1
CLASS:PUBLIC
END:VEVENT
END:VCALENDAR
