BEGIN:VCALENDAR
PRODID:-//kirchenweb.ch gmbh//veranstaltungsausgabe v2.0//DE
VERSION:2.0
METHOD:PUBLISH
BEGIN:VEVENT
DTSTART:20260503T073000Z
DTEND:20260503T083000Z
LOCATION:Reformierte Kirche Umiken\, Villnachernstrasse\, 5222 Umiken
TRANSP:OPAQUE
SEQUENCE:0
UID:9450-veranstaltung@ref-umiken.ch
DTSTAMP:20260331T062931Z
DESCRIPTION:Mit diesem Thema nehmen uns die Konfirmand:innen mit in die
  Aussicht für ihre Zukunft\, und schildern uns ihren nächsten Schritt\,
  ihren Lebenstraum und mehr. Ausserdem zeigen sie uns\, was sie die
  letzten beiden Jahre alles zusammen erlebt haben: Action & Tiefgang beim
  Segellager\, kreative Aktionen mit Greenscreen & Minecraft im
  Konfunterricht\, unterwegs im Gelände auf unserem eigenen
  Geocaching-Parcours. Wir hoffen\, dass etwas von Gottes Wort in ihren
  Herzen lebendig bleibt und sie stärkt für die Zukunft.\n\nWir werden
  dabei musikalisch begleitet von unserer Jugendband Fresh sowie Angelika
  Märki als Solistin und Nathalie Leuenberger an der Orgel.\n\nKontakt:
  Pfr. Wolfgang von Ungern-Sternberg\n056 441 16 39 \n\nWeitere Infos:
  https://www.ref-umiken.ch/veranstaltung/9450
SUMMARY:Konfirmation Gottesdienst
PRIORITY:5
X-MICROSOFT-CDO-IMPORTANCE:1
CLASS:PUBLIC
END:VEVENT
END:VCALENDAR
