BEGIN:VCALENDAR
PRODID:-//kirchenweb.ch gmbh//veranstaltungsausgabe v2.0//DE
VERSION:2.0
METHOD:PUBLISH
BEGIN:VEVENT
DTSTART:20260618T120000Z
DTEND:20260618T143000Z
LOCATION:Zentrum Lee\, Leeweg 6\, 5223 Riniken
TRANSP:OPAQUE
SEQUENCE:0
UID:9435-veranstaltung@ref-umiken.ch
DTSTAMP:20250723T112300Z
DESCRIPTION:Thema:\n\nKontakt: claudia.schaub@ref-umiken.ch\n\nWeitere
  Infos: https://www.ref-umiken.ch/veranstaltung/9435
SUMMARY:Ökumenischer Träff im Lee: Kultur am Nachmittag
PRIORITY:5
X-MICROSOFT-CDO-IMPORTANCE:1
CLASS:PUBLIC
END:VEVENT
END:VCALENDAR
