BEGIN:VCALENDAR
PRODID:-//kirchenweb.ch gmbh//veranstaltungsausgabe v2.0//DE
VERSION:2.0
METHOD:PUBLISH
BEGIN:VEVENT
DTSTART:20261008T120000Z
DTEND:20261008T143000Z
LOCATION:Zentrum Lee Riniken\, Leeweg 6\, 5223 Riniken
TRANSP:OPAQUE
SEQUENCE:0
UID:9428-veranstaltung@ref-umiken.ch
DTSTAMP:20250723T111939Z
DESCRIPTION:Jeweils am zweiten Donnerstag im Monat treffen wir uns im
  Kirchlichen Zentrum Lee Riniken. Wir sind Frauen und Männer jeden
  Alters\, die es gern gesellig haben. Es wird gespielt\, gejasst und
  geplaudert - oder auch gar nichts getan. Das Zusammensein wird mit Kaffee
  und Kuchen abgerundet.\n\nWir vom ökumenischen Plauschnachmittags-Team
  freuen uns auf Sie und grüssen Sie herzlich!\n\nKontakt: Frau Monika
  Schärer\, Tel. 056 441 82 07\n\nWeitere Infos:
  https://www.ref-umiken.ch/veranstaltung/9428
SUMMARY:Ökumenischer Plauschnachmittag
PRIORITY:5
X-MICROSOFT-CDO-IMPORTANCE:1
CLASS:PUBLIC
END:VEVENT
END:VCALENDAR
