BEGIN:VCALENDAR
PRODID:-//kirchenweb.ch gmbh//veranstaltungsausgabe v2.0//DE
VERSION:2.0
METHOD:PUBLISH
BEGIN:VEVENT
DTSTART:20270411T073000Z
DTEND:20270411T090000Z
LOCATION:Reformierte Kirche Umiken\, Villnachernstrasse\, 5222 Umiken
TRANSP:OPAQUE
SEQUENCE:0
UID:9307-veranstaltung@ref-umiken.ch
DTSTAMP:20250702T133331Z
DESCRIPTION:Kontakt: Pfr. Wolfgang von Ungern-Sternberg\, 056 441 16 39\n
 \nWeitere Infos: https://www.ref-umiken.ch/veranstaltung/9307
SUMMARY:Konfirmation
PRIORITY:5
X-MICROSOFT-CDO-IMPORTANCE:1
CLASS:PUBLIC
END:VEVENT
END:VCALENDAR
