BEGIN:VCALENDAR
PRODID:-//kirchenweb.ch gmbh//veranstaltungsausgabe v2.0//DE
VERSION:2.0
METHOD:PUBLISH
BEGIN:VEVENT
DTSTART:20261129T150000Z
DTEND:20261129T173000Z
LOCATION:Reformierte Kirche Umiken\, Villnachernstrasse\, 5222 Umiken
TRANSP:OPAQUE
SEQUENCE:0
UID:9279-veranstaltung@ref-umiken.ch
DTSTAMP:20250530T093400Z
DESCRIPTION:Kontakt: Markus Pfenninger\n\nWeitere Infos:
  https://www.ref-umiken.ch/veranstaltung/9279
SUMMARY:Chor02 Konzert
PRIORITY:5
X-MICROSOFT-CDO-IMPORTANCE:1
CLASS:PUBLIC
END:VEVENT
END:VCALENDAR
