BEGIN:VCALENDAR
PRODID:-//kirchenweb.ch gmbh//veranstaltungsausgabe v2.0//DE
VERSION:2.0
METHOD:PUBLISH
BEGIN:VEVENT
DTSTART:20261107T183000Z
DTEND:20261107T200000Z
LOCATION:Reformierte Kirche Umiken\, Villnachernstrasse\, 5222 Umiken
TRANSP:OPAQUE
SEQUENCE:0
UID:9228-veranstaltung@ref-umiken.ch
DTSTAMP:20250623T132128Z
DESCRIPTION:Kontakt: Nathalie Leuenberger\n\nWeitere Infos:
  https://www.ref-umiken.ch/veranstaltung/9228
SUMMARY:Abendmusik
PRIORITY:5
X-MICROSOFT-CDO-IMPORTANCE:1
CLASS:PUBLIC
END:VEVENT
END:VCALENDAR
