BEGIN:VCALENDAR
PRODID:-//kirchenweb.ch gmbh//veranstaltungsausgabe v2.0//DE
VERSION:2.0
METHOD:PUBLISH
BEGIN:VEVENT
DTSTART:20270327T170000Z
DTEND:20270327T180000Z
LOCATION:Reformierte Kirche Umiken\, Villnachernstrasse\, 5222 Umiken
TRANSP:OPAQUE
SEQUENCE:0
UID:5753-veranstaltung@ref-umiken.ch
DTSTAMP:20241016T074558Z
DESCRIPTION:Kontakt: Pfr. Wolfgang von Ungern-Sternberg\n\nWeitere Infos:
  https://www.ref-umiken.ch/veranstaltung/5753
SUMMARY:Osternachtfeier Gottesdienst in Umiken
PRIORITY:5
X-MICROSOFT-CDO-IMPORTANCE:1
CLASS:PUBLIC
END:VEVENT
END:VCALENDAR
