BEGIN:VCALENDAR
PRODID:-//kirchenweb.ch gmbh//veranstaltungsausgabe v2.0//DE
VERSION:2.0
METHOD:PUBLISH
BEGIN:VEVENT
DTSTART:20261122T083000Z
DTEND:20261122T093000Z
LOCATION:Reformierte Kirche Umiken\, Villnachernstrasse\, 5222 Umiken
TRANSP:OPAQUE
SEQUENCE:0
UID:5739-veranstaltung@ref-umiken.ch
DTSTAMP:20251126T095730Z
DESCRIPTION:Ewigkeitssonntag\n\nKontakt: Pfr. Wolfgang von
  Ungern-Sternberg\n\nWeitere Infos:
  https://www.ref-umiken.ch/veranstaltung/5739
SUMMARY:Gottesdienst zum Ewigkeitssonntag
PRIORITY:5
X-MICROSOFT-CDO-IMPORTANCE:1
CLASS:PUBLIC
END:VEVENT
END:VCALENDAR
