BEGIN:VCALENDAR
PRODID:-//kirchenweb.ch gmbh//veranstaltungsausgabe v2.0//DE
VERSION:2.0
METHOD:PUBLISH
BEGIN:VEVENT
DTSTART:20260606T083000Z
DTEND:20260606T093000Z
LOCATION:Alte Badi Umiken\, \, 5222 Umiken
TRANSP:OPAQUE
SEQUENCE:0
UID:10031-veranstaltung@ref-umiken.ch
DTSTAMP:20260420T130824Z
DESCRIPTION:ökumenische Feier für Kinder und Familien\n
 \nGottesdienstliche Feier für Kinder und Familien mit anschliessendem
  gemeinsamen Mittagessen und Spiel & Spass.\n \n\nKontakt: Pfrn. Sophie
  Glatthard\, 079 387 39 31\n\nWeitere Infos:
  https://www.ref-umiken.ch/veranstaltung/10031
SUMMARY:Ökumenische Kinderkirche
PRIORITY:5
X-MICROSOFT-CDO-IMPORTANCE:1
CLASS:PUBLIC
END:VEVENT
END:VCALENDAR
